BEGIN:VCALENDAR
VERSION:2.0
PRODID:-// - ECPv4.9.5//NONSGML v1.0//EN
CALSCALE:GREGORIAN
METHOD:PUBLISH
X-ORIGINAL-URL:http://www.computerclub.lu
X-WR-CALDESC:Veranstaltungen im 
BEGIN:VTIMEZONE
TZID:"Europe/Luxembourg"
BEGIN:DAYLIGHT
TZOFFSETFROM:+0100
TZOFFSETTO:+0200
TZNAME:CEST
DTSTART:20190331T010000
END:DAYLIGHT
BEGIN:STANDARD
TZOFFSETFROM:+0200
TZOFFSETTO:+0100
TZNAME:CET
DTSTART:20191027T010000
END:STANDARD
END:VTIMEZONE
BEGIN:VEVENT
DTSTART;TZID="Europe/Luxembourg":20190110T193000
DTEND;TZID="Europe/Luxembourg":20190110T210000
DTSTAMP:20190822T010601
CREATED:20190109T154244Z
LAST-MODIFIED:20190114T155135Z
UID:1037-1547148600-1547154000@www.computerclub.lu
SUMMARY:AG den 10.1.2018 19:30
DESCRIPTION:Eis Generalversammlung fënd den 10.01.2018 um 19:30 Auer zu Stengefort \num Site „Al Schmalz“ statt \n
URL:http://www.computerclub.lu/event/ag-den-10-1-2018-1930/
LOCATION:Al Schmelz\, rue Collart\, Steinfort\, 8414\, Luxemburg
CATEGORIES:Generalversammlung
ATTACH;FMTTYPE=image/png:http://www.computerclub.lu/wp-content/uploads/AG.png
ORGANIZER;CN="Master%20Computer%20Club%20Luxemburg":MAILTO:mccl.deisad@gmail.com
END:VEVENT
END:VCALENDAR