BEGIN:VCALENDAR
VERSION:2.0
PRODID:-// - ECPv4.9.5//NONSGML v1.0//EN
CALSCALE:GREGORIAN
METHOD:PUBLISH
X-ORIGINAL-URL:http://www.computerclub.lu
X-WR-CALDESC:Veranstaltungen im 
BEGIN:VTIMEZONE
TZID:"Europe/Luxembourg"
BEGIN:DAYLIGHT
TZOFFSETFROM:+0100
TZOFFSETTO:+0200
TZNAME:CEST
DTSTART:20190331T010000
END:DAYLIGHT
BEGIN:STANDARD
TZOFFSETFROM:+0200
TZOFFSETTO:+0100
TZNAME:CET
DTSTART:20191027T010000
END:STANDARD
END:VTIMEZONE
BEGIN:VEVENT
DTSTART;TZID="Europe/Luxembourg":20190203T090000
DTEND;TZID="Europe/Luxembourg":20190203T114500
DTSTAMP:20190822T010015
CREATED:20190114T153541Z
LAST-MODIFIED:20190212T091753Z
UID:1062-1549184400-1549194300@www.computerclub.lu
SUMMARY:Floumaart Februar
DESCRIPTION:Registrations are closed for this event  \n
URL:http://www.computerclub.lu/event/floumaart-februar/
LOCATION:Parsall Klengbetten\, 36\, rue de Hagen\, Kleinbettingen\, 8381\, Luxemburg
CATEGORIES:Floumaart
ATTACH;FMTTYPE=image/jpeg:http://www.computerclub.lu/wp-content/uploads/2016/10/Hagen_1_36-e1477213525404.jpg
ORGANIZER;CN="Master%20Computer%20Club%20Luxemburg":MAILTO:mccl.deisad@gmail.com
END:VEVENT
END:VCALENDAR