BEGIN:VCALENDAR
VERSION:2.0
PRODID:-// - ECPv4.9.5//NONSGML v1.0//EN
CALSCALE:GREGORIAN
METHOD:PUBLISH
X-ORIGINAL-URL:http://www.computerclub.lu
X-WR-CALDESC:Veranstaltungen im 
BEGIN:VTIMEZONE
TZID:"Europe/Luxembourg"
BEGIN:DAYLIGHT
TZOFFSETFROM:+0100
TZOFFSETTO:+0200
TZNAME:CEST
DTSTART:20190331T010000
END:DAYLIGHT
BEGIN:STANDARD
TZOFFSETFROM:+0200
TZOFFSETTO:+0100
TZNAME:CET
DTSTART:20191027T010000
END:STANDARD
END:VTIMEZONE
BEGIN:VEVENT
DTSTART;TZID="Europe/Luxembourg":20190310T090000
DTEND;TZID="Europe/Luxembourg":20190310T114500
DTSTAMP:20190822T005602
CREATED:20190114T080001Z
LAST-MODIFIED:20190212T104810Z
UID:1050-1552208400-1552218300@www.computerclub.lu
SUMMARY:Floumaart März
DESCRIPTION:
URL:http://www.computerclub.lu/event/floumaart-maerz/
LOCATION:Al Schmelz\, rue Collart\, Steinfort\, 8414\, Luxemburg
CATEGORIES:Floumaart
ATTACH;FMTTYPE=image/jpeg:http://www.computerclub.lu/wp-content/uploads/2017/12/AlSchmelz-e1515833614468.jpg
ORGANIZER;CN="Master%20Computer%20Club%20Luxemburg":MAILTO:mccl.deisad@gmail.com
END:VEVENT
END:VCALENDAR