BEGIN:VCALENDAR
VERSION:2.0
PRODID:-// - ECPv4.6.18//NONSGML v1.0//EN
CALSCALE:GREGORIAN
METHOD:PUBLISH
X-ORIGINAL-URL:http://www.computerclub.lu
X-WR-CALDESC:Veranstaltungen für 
BEGIN:VEVENT
DTSTART;TZID=Europe/Luxembourg:20180610T090000
DTEND;TZID=Europe/Luxembourg:20180610T114500
DTSTAMP:20180623T063159
CREATED:20180409T143331Z
LAST-MODIFIED:20180514T145702Z
UID:694-1528621200-1528631100@www.computerclub.lu
SUMMARY:Computer Floumaart
DESCRIPTION:Dir kënnt all Zorten vun elektroneschem an techneschem Material matbréngen an zum Verkaf ubidden!\n  \nEntrée fir Verkeefer ass um 8:30 \n
URL:http://www.computerclub.lu/event/computer-floumaart-2/
LOCATION:36\, rue de Hagen\, Kleinbettingen\, 8381\, Luxemburg
CATEGORIES:Floumaart
ATTACH;FMTTYPE=image/jpeg:http://www.computerclub.lu/wp-content/uploads/2016/11/cropped-Hagen_1_36.jpg
END:VEVENT
END:VCALENDAR